{"text_format":"2","workbook":"xlsx","n_sheets":5,"sheets":["종합","집중심의","765송부","345송부","154송부"],"not_rendered":{"charts":0,"images":0,"macros":0,"external_links":0,"defined_names":18,"comments":2,"pivot_tables":0},"unopened":[],"bounds":{"document_bytes":16777216,"sheet_cells":100000,"run_cost":"one","rows_first":2000,"rows_last":500,"rows_between":2000,"halvings":0,"cell_chars":16384,"cell_head_chars":4096},"cells_cut":0,"cells_raw":0,"read":"whole","date_system":"1900"}

{"sheet":"종합","index":0,"n_rows":37,"n_cols":33,"rows_kept":37,"cut":false,"hidden":true,"merged":[[0,0,0,15],[7,14,7,15],[7,1,7,2],[8,1,8,2],[7,9,7,13],[7,3,7,6],[8,3,8,6],[14,14,14,15],[10,1,10,2],[11,1,11,2],[14,9,14,13],[9,1,9,2],[14,2,14,6],[11,3,11,6],[10,3,10,6],[9,3,9,6]]}
[{"$f":"\"'19년 \"&R15&\"월 휴전심의 결과\"","v":"'19년 2월 휴전심의 결과"}]
[]
[]
[]
[]
[]
["◎ 전체 심의결과"]
["전   압","신 청",null,"채 택",null,null,null,"일정\n조정","불채택","(병행/취소/연기)",{"$nulls":4},"연간계획반영(%)"]
["765kV",{"$f":"MAX(#REF!)","v":{"$error":"#REF!"}},null,{"$f":"B9-I9","v":{"$error":"#REF!"}},null,null,null,{"$f":"COUNTIF(#REF!,\"일정조정\")","v":{"$error":"#REF!"}},{"$f":"SUM(J9,L9,N9)","v":{"$error":"#REF!"}},{"$f":"COUNTIF(#REF!,\"병행\")","v":{"$error":"#REF!"}},"/",{"$f":"COUNTIF(#REF!,\"취소\")","v":{"$error":"#REF!"}},"/",{"$f":"COUNTIF(#REF!,\"연기\")","v":{"$error":"#REF!"}},{"$f":"COUNTIF(#REF!,\"Y\")","v":{"$error":"#REF!"}},{"$f":"(O9/B9)","v":{"$error":"#REF!"}}]
["345kV",{"$f":"MAX(#REF!)","v":{"$error":"#REF!"}},null,{"$f":"B10-I10","v":{"$error":"#REF!"}},null,null,null,{"$f":"COUNTIF(#REF!,\"일정조정\")","v":{"$error":"#REF!"}},{"$f":"SUM(J10,L10,N10)","v":{"$error":"#REF!"}},{"$f":"COUNTIF(#REF!,\"병행\")","v":{"$error":"#REF!"}},"/",{"$f":"COUNTIF(#REF!,\"취소\")","v":{"$error":"#REF!"}},"/",{"$f":"COUNTIF(#REF!,\"연기\")","v":{"$error":"#REF!"}},{"$f":"COUNTIF(#REF!,\"Y\")","v":{"$error":"#REF!"}},{"$f":"(O10/B10)","v":{"$error":"#REF!"}}]
["154kV",{"$f":"MAX(#REF!)","v":{"$error":"#REF!"}},null,{"$f":"B11-I11","v":{"$error":"#REF!"}},null,null,null,{"$f":"COUNTIF(#REF!,\"일정조정\")","v":{"$error":"#REF!"}},{"$f":"SUM(J11,L11,N11)","v":{"$error":"#REF!"}},{"$f":"COUNTIF(#REF!,\"병행\")","v":{"$error":"#REF!"}},"/",{"$f":"COUNTIF(#REF!,\"취소\")","v":{"$error":"#REF!"}},"/",{"$f":"COUNTIF(#REF!,\"연기\")","v":{"$error":"#REF!"}},{"$f":"COUNTIF(#REF!,\"Y\")","v":{"$error":"#REF!"}},{"$f":"(O11/B11)","v":{"$error":"#REF!"}}]
["계",{"$f":"SUM(B9:B11)","v":{"$error":"#REF!"}},null,{"$f":"SUM(D9:D11)","v":{"$error":"#REF!"}},null,null,null,{"$f":"SUM(H9:H11)","v":{"$error":"#REF!"}},{"$f":"SUM(J12,L12,N12)","v":{"$error":"#REF!"}},{"$f":"SUM(J9:J11)","v":{"$error":"#REF!"}},"/",{"$f":"SUM(L9:L11)","v":{"$error":"#REF!"}},"/",{"$f":"SUM(N9:N11)","v":{"$error":"#REF!"}},{"$f":"SUM(O9:O11)","v":{"$error":"#REF!"}},{"$f":"(O12/B12)","v":{"$error":"#REF!"}}]
[]
["◎ 본부별 심의결과",{"$nulls":16},"월"]
["사업소","신 청","(765/345/154)",{"$nulls":4},"채 택","불채택","(병행/취소/연기)",{"$nulls":4},"연간계획반영(%)",null,null,2]
["서   울",{"$f":"SUM(C16:G16)","v":{"$error":"#REF!"}},{"$f":"COUNTIF(#REF!,\"서울\")","v":{"$error":"#REF!"}},"/",{"$f":"COUNTIF(#REF!,\"서울\")","v":{"$error":"#REF!"}},"/",{"$f":"COUNTIF(#REF!,\"서울\")","v":{"$error":"#REF!"}},{"$f":"B16-I16","v":{"$error":"#REF!"}},{"$f":"SUM(J16,L16,N16)","v":{"$error":"#REF!"}},{"$f":"SUM(S16:U16)","v":{"$error":"#REF!"}},"/",{"$f":"SUM(W16:Y16)","v":{"$error":"#REF!"}},"/",{"$f":"SUM(AA16:AC16)","v":{"$error":"#REF!"}},{"$f":"SUM(AE16:AG16)","v":{"$error":"#REF!"}},{"$f":"(O16/B16)","v":{"$error":"#REF!"}},null,"서울",{"$f":"COUNTIFS(#REF!,\"병행\",#REF!,R16)","v":{"$error":"#REF!"}},{"$f":"COUNTIFS(#REF!,\"병행\",#REF!,R16)","v":{"$error":"#REF!"}},{"$f":"COUNTIFS(#REF!,\"병행\",#REF!,R16)","v":{"$error":"#REF!"}},null,{"$f":"COUNTIFS(#REF!,\"취소\",#REF!,R16)","v":{"$error":"#REF!"}},{"$f":"COUNTIFS(#REF!,\"취소\",#REF!,R16)","v":{"$error":"#REF!"}},{"$f":"COUNTIFS(#REF!,\"취소\",#REF!,R16)","v":{"$error":"#REF!"}},null,{"$f":"COUNTIFS(#REF!,\"연기\",#REF!,R16)","v":{"$error":"#REF!"}},{"$f":"COUNTIFS(#REF!,\"연기\",#REF!,R16)","v":{"$error":"#REF!"}},{"$f":"COUNTIFS(#REF!,\"연기\",#REF!,R16)","v":{"$error":"#REF!"}},null,{"$f":"COUNTIFS(#REF!,\"y\",#REF!,R16)","v":{"$error":"#REF!"}},{"$f":"COUNTIFS(#REF!,\"y\",#REF!,R16)","v":{"$error":"#REF!"}},{"$f":"COUNTIFS(#REF!,\"y\",#REF!,R16)","v":{"$error":"#REF!"}}]
["남서울",{"$error":"#REF!"},{"$f":"COUNTIF(#REF!,\"남서울\")","v":{"$error":"#REF!"}},"/",{"$f":"COUNTIF(#REF!,\"남서울\")","v":{"$error":"#REF!"}},"/",{"$f":"COUNTIF(#REF!,\"남서울\")","v":{"$error":"#REF!"}},{"$error":"#REF!"},{"$error":"#REF!"},{"$f":"SUM(S17:U17)","v":{"$error":"#REF!"}},"/",{"$error":"#REF!"},"/",{"$error":"#REF!"},{"$error":"#REF!"},{"$error":"#REF!"},null,"남서울",{"$f":"COUNTIFS(#REF!,\"병행\",#REF!,R17)","v":{"$error":"#REF!"}},{"$f":"COUNTIFS(#REF!,\"병행\",#REF!,R17)","v":{"$error":"#REF!"}},{"$f":"COUNTIFS(#REF!,\"병행\",#REF!,R17)","v":{"$error":"#REF!"}},null,{"$f":"COUNTIFS(#REF!,\"취소\",#REF!,R17)","v":{"$error":"#REF!"}},{"$f":"COUNTIFS(#REF!,\"취소\",#REF!,R17)","v":{"$error":"#REF!"}},{"$f":"COUNTIFS(#REF!,\"취소\",#REF!,R17)","v":{"$error":"#REF!"}},null,{"$f":"COUNTIFS(#REF!,\"연기\",#REF!,R17)","v":{"$error":"#REF!"}},{"$f":"COUNTIFS(#REF!,\"연기\",#REF!,R17)","v":{"$error":"#REF!"}},{"$f":"COUNTIFS(#REF!,\"연기\",#REF!,R17)","v":{"$error":"#REF!"}},null,{"$f":"COUNTIFS(#REF!,\"y\",#REF!,R17)","v":{"$error":"#REF!"}},{"$f":"COUNTIFS(#REF!,\"y\",#REF!,R17)","v":{"$error":"#REF!"}},{"$f":"COUNTIFS(#REF!,\"y\",#REF!,R17)","v":{"$error":"#REF!"}}]
["인   천",{"$error":"#REF!"},{"$f":"COUNTIF(#REF!,\"인천\")","v":{"$error":"#REF!"}},"/",{"$f":"COUNTIF(#REF!,\"인천\")","v":{"$error":"#REF!"}},"/",{"$f":"COUNTIF(#REF!,\"인천\")","v":{"$error":"#REF!"}},{"$error":"#REF!"},{"$error":"#REF!"},{"$error":"#REF!"},"/",{"$error":"#REF!"},"/",{"$error":"#REF!"},{"$error":"#REF!"},{"$error":"#REF!"},null,"인천",{"$f":"COUNTIFS(#REF!,\"병행\",#REF!,R18)","v":{"$error":"#REF!"}},{"$f":"COUNTIFS(#REF!,\"병행\",#REF!,R18)","v":{"$error":"#REF!"}},{"$f":"COUNTIFS(#REF!,\"병행\",#REF!,R18)","v":{"$error":"#REF!"}},null,{"$f":"COUNTIFS(#REF!,\"취소\",#REF!,R18)","v":{"$error":"#REF!"}},{"$f":"COUNTIFS(#REF!,\"취소\",#REF!,R18)","v":{"$error":"#REF!"}},{"$f":"COUNTIFS(#REF!,\"취소\",#REF!,R18)","v":{"$error":"#REF!"}},null,{"$f":"COUNTIFS(#REF!,\"연기\",#REF!,R18)","v":{"$error":"#REF!"}},{"$f":"COUNTIFS(#REF!,\"연기\",#REF!,R18)","v":{"$error":"#REF!"}},{"$f":"COUNTIFS(#REF!,\"연기\",#REF!,R18)","v":{"$error":"#REF!"}},null,{"$f":"COUNTIFS(#REF!,\"y\",#REF!,R18)","v":{"$error":"#REF!"}},{"$f":"COUNTIFS(#REF!,\"y\",#REF!,R18)","v":{"$error":"#REF!"}},{"$f":"COUNTIFS(#REF!,\"y\",#REF!,R18)","v":{"$error":"#REF!"}}]
["경기북부",{"$error":"#REF!"},{"$f":"COUNTIF(#REF!,\"경기북부\")","v":{"$error":"#REF!"}},"/",{"$f":"COUNTIF(#REF!,\"경기북부\")","v":{"$error":"#REF!"}},"/",{"$f":"COUNTIF(#REF!,\"경기북부\")","v":{"$error":"#REF!"}},{"$error":"#REF!"},{"$error":"#REF!"},{"$error":"#REF!"},"/",{"$error":"#REF!"},"/",{"$error":"#REF!"},{"$error":"#REF!"},{"$error":"#REF!"},null,"경기북부",{"$f":"COUNTIFS(#REF!,\"병행\",#REF!,R19)","v":{"$error":"#REF!"}},{"$f":"COUNTIFS(#REF!,\"병행\",#REF!,R19)","v":{"$error":"#REF!"}},{"$f":"COUNTIFS(#REF!,\"병행\",#REF!,R19)","v":{"$error":"#REF!"}},null,{"$f":"COUNTIFS(#REF!,\"취소\",#REF!,R19)","v":{"$error":"#REF!"}},{"$f":"COUNTIFS(#REF!,\"취소\",#REF!,R19)","v":{"$error":"#REF!"}},{"$f":"COUNTIFS(#REF!,\"취소\",#REF!,R19)","v":{"$error":"#REF!"}},null,{"$f":"COUNTIFS(#REF!,\"연기\",#REF!,R19)","v":{"$error":"#REF!"}},{"$f":"COUNTIFS(#REF!,\"연기\",#REF!,R19)","v":{"$error":"#REF!"}},{"$f":"COUNTIFS(#REF!,\"연기\",#REF!,R19)","v":{"$error":"#REF!"}},null,{"$f":"COUNTIFS(#REF!,\"y\",#REF!,R19)","v":{"$error":"#REF!"}},{"$f":"COUNTIFS(#REF!,\"y\",#REF!,R19)","v":{"$error":"#REF!"}},{"$f":"COUNTIFS(#REF!,\"y\",#REF!,R19)","v":{"$error":"#REF!"}}]
["경   기",{"$error":"#REF!"},{"$f":"COUNTIF(#REF!,\"경기\")","v":{"$error":"#REF!"}},"/",{"$f":"COUNTIF(#REF!,\"경기\")","v":{"$error":"#REF!"}},"/",{"$f":"COUNTIF(#REF!,\"경기\")","v":{"$error":"#REF!"}},{"$error":"#REF!"},{"$error":"#REF!"},{"$error":"#REF!"},"/",{"$error":"#REF!"},"/",{"$error":"#REF!"},{"$error":"#REF!"},{"$error":"#REF!"},null,"경기",{"$f":"COUNTIFS(#REF!,\"병행\",#REF!,R20)","v":{"$error":"#REF!"}},{"$f":"COUNTIFS(#REF!,\"병행\",#REF!,R20)","v":{"$error":"#REF!"}},{"$f":"COUNTIFS(#REF!,\"병행\",#REF!,R20)","v":{"$error":"#REF!"}},null,{"$f":"COUNTIFS(#REF!,\"취소\",#REF!,R20)","v":{"$error":"#REF!"}},{"$f":"COUNTIFS(#REF!,\"취소\",#REF!,R20)","v":{"$error":"#REF!"}},{"$f":"COUNTIFS(#REF!,\"취소\",#REF!,R20)","v":{"$error":"#REF!"}},null,{"$f":"COUNTIFS(#REF!,\"연기\",#REF!,R20)","v":{"$error":"#REF!"}},{"$f":"COUNTIFS(#REF!,\"연기\",#REF!,R20)","v":{"$error":"#REF!"}},{"$f":"COUNTIFS(#REF!,\"연기\",#REF!,R20)","v":{"$error":"#REF!"}},null,{"$f":"COUNTIFS(#REF!,\"y\",#REF!,R20)","v":{"$error":"#REF!"}},{"$f":"COUNTIFS(#REF!,\"y\",#REF!,R20)","v":{"$error":"#REF!"}},{"$f":"COUNTIFS(#REF!,\"y\",#REF!,R20)","v":{"$error":"#REF!"}}]
["강   원",{"$error":"#REF!"},{"$f":"COUNTIF(#REF!,\"강원\")","v":{"$error":"#REF!"}},"/",{"$f":"COUNTIF(#REF!,\"강원\")","v":{"$error":"#REF!"}},"/",{"$f":"COUNTIF(#REF!,\"강원\")","v":{"$error":"#REF!"}},{"$error":"#REF!"},{"$error":"#REF!"},{"$error":"#REF!"},"/",{"$error":"#REF!"},"/",{"$error":"#REF!"},{"$error":"#REF!"},{"$error":"#REF!"},null,"강원",{"$f":"COUNTIFS(#REF!,\"병행\",#REF!,R21)","v":{"$error":"#REF!"}},{"$f":"COUNTIFS(#REF!,\"병행\",#REF!,R21)","v":{"$error":"#REF!"}},{"$f":"COUNTIFS(#REF!,\"병행\",#REF!,R21)","v":{"$error":"#REF!"}},null,{"$f":"COUNTIFS(#REF!,\"취소\",#REF!,R21)","v":{"$error":"#REF!"}},{"$f":"COUNTIFS(#REF!,\"취소\",#REF!,R21)","v":{"$error":"#REF!"}},{"$f":"COUNTIFS(#REF!,\"취소\",#REF!,R21)","v":{"$error":"#REF!"}},null,{"$f":"COUNTIFS(#REF!,\"연기\",#REF!,R21)","v":{"$error":"#REF!"}},{"$f":"COUNTIFS(#REF!,\"연기\",#REF!,R21)","v":{"$error":"#REF!"}},{"$f":"COUNTIFS(#REF!,\"연기\",#REF!,R21)","v":{"$error":"#REF!"}},null,{"$f":"COUNTIFS(#REF!,\"y\",#REF!,R21)","v":{"$error":"#REF!"}},{"$f":"COUNTIFS(#REF!,\"y\",#REF!,R21)","v":{"$error":"#REF!"}},{"$f":"COUNTIFS(#REF!,\"y\",#REF!,R21)","v":{"$error":"#REF!"}}]
["충   북",{"$f":"SUM(C22:G22)","v":{"$error":"#REF!"}},{"$f":"COUNTIF(#REF!,\"충북\")","v":{"$error":"#REF!"}},"/",{"$f":"COUNTIF(#REF!,\"충북\")","v":{"$error":"#REF!"}},"/",{"$f":"COUNTIF(#REF!,\"충북\")","v":{"$error":"#REF!"}},{"$error":"#REF!"},{"$error":"#REF!"},{"$error":"#REF!"},"/",{"$error":"#REF!"},"/",{"$error":"#REF!"},{"$error":"#REF!"},{"$error":"#REF!"},null,"충북",{"$f":"COUNTIFS(#REF!,\"병행\",#REF!,R22)","v":{"$error":"#REF!"}},{"$f":"COUNTIFS(#REF!,\"병행\",#REF!,R22)","v":{"$error":"#REF!"}},{"$f":"COUNTIFS(#REF!,\"병행\",#REF!,R22)","v":{"$error":"#REF!"}},null,{"$f":"COUNTIFS(#REF!,\"취소\",#REF!,R22)","v":{"$error":"#REF!"}},{"$f":"COUNTIFS(#REF!,\"취소\",#REF!,R22)","v":{"$error":"#REF!"}},{"$f":"COUNTIFS(#REF!,\"취소\",#REF!,R22)","v":{"$error":"#REF!"}},null,{"$f":"COUNTIFS(#REF!,\"연기\",#REF!,R22)","v":{"$error":"#REF!"}},{"$f":"COUNTIFS(#REF!,\"연기\",#REF!,R22)","v":{"$error":"#REF!"}},{"$f":"COUNTIFS(#REF!,\"연기\",#REF!,R22)","v":{"$error":"#REF!"}},null,{"$f":"COUNTIFS(#REF!,\"y\",#REF!,R22)","v":{"$error":"#REF!"}},{"$f":"COUNTIFS(#REF!,\"y\",#REF!,R22)","v":{"$error":"#REF!"}},{"$f":"COUNTIFS(#REF!,\"y\",#REF!,R22)","v":{"$error":"#REF!"}}]
["대전충남",{"$error":"#REF!"},{"$f":"COUNTIF(#REF!,\"대전충남\")","v":{"$error":"#REF!"}},"/",{"$f":"COUNTIF(#REF!,\"대전충남\")","v":{"$error":"#REF!"}},"/",{"$f":"COUNTIF(#REF!,\"대전충남\")","v":{"$error":"#REF!"}},{"$error":"#REF!"},{"$error":"#REF!"},{"$error":"#REF!"},"/",{"$error":"#REF!"},"/",{"$error":"#REF!"},{"$error":"#REF!"},{"$error":"#REF!"},null,"대전충남",{"$f":"COUNTIFS(#REF!,\"병행\",#REF!,R23)","v":{"$error":"#REF!"}},{"$f":"COUNTIFS(#REF!,\"병행\",#REF!,R23)","v":{"$error":"#REF!"}},{"$f":"COUNTIFS(#REF!,\"병행\",#REF!,R23)","v":{"$error":"#REF!"}},null,{"$f":"COUNTIFS(#REF!,\"취소\",#REF!,R23)","v":{"$error":"#REF!"}},{"$f":"COUNTIFS(#REF!,\"취소\",#REF!,R23)","v":{"$error":"#REF!"}},{"$f":"COUNTIFS(#REF!,\"취소\",#REF!,R23)","v":{"$error":"#REF!"}},null,{"$f":"COUNTIFS(#REF!,\"연기\",#REF!,R23)","v":{"$error":"#REF!"}},{"$f":"COUNTIFS(#REF!,\"연기\",#REF!,R23)","v":{"$error":"#REF!"}},{"$f":"COUNTIFS(#REF!,\"연기\",#REF!,R23)","v":{"$error":"#REF!"}},null,{"$f":"COUNTIFS(#REF!,\"y\",#REF!,R23)","v":{"$error":"#REF!"}},{"$f":"COUNTIFS(#REF!,\"y\",#REF!,R23)","v":{"$error":"#REF!"}},{"$f":"COUNTIFS(#REF!,\"y\",#REF!,R23)","v":{"$error":"#REF!"}}]
["전   북",{"$f":"SUM(C24:G24)","v":{"$error":"#REF!"}},{"$f":"COUNTIF(#REF!,\"전북\")","v":{"$error":"#REF!"}},"/",{"$f":"COUNTIF(#REF!,\"전북\")","v":{"$error":"#REF!"}},"/",{"$f":"COUNTIF(#REF!,\"전북\")","v":{"$error":"#REF!"}},{"$error":"#REF!"},{"$error":"#REF!"},{"$error":"#REF!"},"/",{"$error":"#REF!"},"/",{"$error":"#REF!"},{"$error":"#REF!"},{"$error":"#REF!"},null,"전북",{"$f":"COUNTIFS(#REF!,\"병행\",#REF!,R24)","v":{"$error":"#REF!"}},{"$f":"COUNTIFS(#REF!,\"병행\",#REF!,R24)","v":{"$error":"#REF!"}},{"$f":"COUNTIFS(#REF!,\"병행\",#REF!,R24)","v":{"$error":"#REF!"}},null,{"$f":"COUNTIFS(#REF!,\"취소\",#REF!,R24)","v":{"$error":"#REF!"}},{"$f":"COUNTIFS(#REF!,\"취소\",#REF!,R24)","v":{"$error":"#REF!"}},{"$f":"COUNTIFS(#REF!,\"취소\",#REF!,R24)","v":{"$error":"#REF!"}},null,{"$f":"COUNTIFS(#REF!,\"연기\",#REF!,R24)","v":{"$error":"#REF!"}},{"$f":"COUNTIFS(#REF!,\"연기\",#REF!,R24)","v":{"$error":"#REF!"}},{"$f":"COUNTIFS(#REF!,\"연기\",#REF!,R24)","v":{"$error":"#REF!"}},null,{"$f":"COUNTIFS(#REF!,\"y\",#REF!,R24)","v":{"$error":"#REF!"}},{"$f":"COUNTIFS(#REF!,\"y\",#REF!,R24)","v":{"$error":"#REF!"}},{"$f":"COUNTIFS(#REF!,\"y\",#REF!,R24)","v":{"$error":"#REF!"}}]
["광주전남",{"$f":"SUM(C25:G25)","v":{"$error":"#REF!"}},{"$f":"COUNTIF(#REF!,\"광주전남\")","v":{"$error":"#REF!"}},"/",{"$f":"COUNTIF(#REF!,\"광주전남\")","v":{"$error":"#REF!"}},"/",{"$f":"COUNTIF(#REF!,\"광주전남\")","v":{"$error":"#REF!"}},{"$error":"#REF!"},{"$error":"#REF!"},{"$error":"#REF!"},"/",{"$error":"#REF!"},"/",{"$error":"#REF!"},{"$error":"#REF!"},{"$error":"#REF!"},null,"광주전남",{"$f":"COUNTIFS(#REF!,\"병행\",#REF!,R25)","v":{"$error":"#REF!"}},{"$f":"COUNTIFS(#REF!,\"병행\",#REF!,R25)","v":{"$error":"#REF!"}},{"$f":"COUNTIFS(#REF!,\"병행\",#REF!,R25)","v":{"$error":"#REF!"}},null,{"$f":"COUNTIFS(#REF!,\"취소\",#REF!,R25)","v":{"$error":"#REF!"}},{"$f":"COUNTIFS(#REF!,\"취소\",#REF!,R25)","v":{"$error":"#REF!"}},{"$f":"COUNTIFS(#REF!,\"취소\",#REF!,R25)","v":{"$error":"#REF!"}},null,{"$f":"COUNTIFS(#REF!,\"연기\",#REF!,R25)","v":{"$error":"#REF!"}},{"$f":"COUNTIFS(#REF!,\"연기\",#REF!,R25)","v":{"$error":"#REF!"}},{"$f":"COUNTIFS(#REF!,\"연기\",#REF!,R25)","v":{"$error":"#REF!"}},null,{"$f":"COUNTIFS(#REF!,\"y\",#REF!,R25)","v":{"$error":"#REF!"}},{"$f":"COUNTIFS(#REF!,\"y\",#REF!,R25)","v":{"$error":"#REF!"}},{"$f":"COUNTIFS(#REF!,\"y\",#REF!,R25)","v":{"$error":"#REF!"}}]
["대구",{"$f":"SUM(C26:G26)","v":{"$error":"#REF!"}},{"$f":"COUNTIF(#REF!,\"대구\")","v":{"$error":"#REF!"}},"/",{"$f":"COUNTIF(#REF!,\"대구\")","v":{"$error":"#REF!"}},"/",{"$f":"COUNTIF(#REF!,\"대구\")","v":{"$error":"#REF!"}},{"$f":"B26-I26","v":{"$error":"#REF!"}},{"$error":"#REF!"},{"$f":"SUM(S26:U26)","v":{"$error":"#REF!"}},"/",{"$f":"SUM(W26:Y26)","v":{"$error":"#REF!"}},"/",{"$f":"SUM(AA26:AC26)","v":{"$error":"#REF!"}},{"$f":"SUM(AE26:AG26)","v":{"$error":"#REF!"}},{"$error":"#REF!"},null,"대구",{"$f":"COUNTIFS(#REF!,\"병행\",#REF!,R26)","v":{"$error":"#REF!"}},{"$f":"COUNTIFS(#REF!,\"병행\",#REF!,R26)","v":{"$error":"#REF!"}},{"$f":"COUNTIFS(#REF!,\"병행\",#REF!,R26)","v":{"$error":"#REF!"}},null,{"$f":"COUNTIFS(#REF!,\"취소\",#REF!,R26)","v":{"$error":"#REF!"}},{"$f":"COUNTIFS(#REF!,\"취소\",#REF!,R26)","v":{"$error":"#REF!"}},{"$f":"COUNTIFS(#REF!,\"취소\",#REF!,R26)","v":{"$error":"#REF!"}},null,{"$f":"COUNTIFS(#REF!,\"연기\",#REF!,R26)","v":{"$error":"#REF!"}},{"$f":"COUNTIFS(#REF!,\"연기\",#REF!,R26)","v":{"$error":"#REF!"}},{"$f":"COUNTIFS(#REF!,\"연기\",#REF!,R26)","v":{"$error":"#REF!"}},null,{"$f":"COUNTIFS(#REF!,\"y\",#REF!,R26)","v":{"$error":"#REF!"}},{"$f":"COUNTIFS(#REF!,\"y\",#REF!,R26)","v":{"$error":"#REF!"}},{"$f":"COUNTIFS(#REF!,\"y\",#REF!,R26)","v":{"$error":"#REF!"}}]
["경북",{"$error":"#REF!"},{"$f":"COUNTIF(#REF!,\"경북\")","v":{"$error":"#REF!"}},"/",{"$f":"COUNTIF(#REF!,\"경북\")","v":{"$error":"#REF!"}},"/",{"$f":"COUNTIF(#REF!,\"경북\")","v":{"$error":"#REF!"}},{"$error":"#REF!"},{"$error":"#REF!"},{"$error":"#REF!"},"/",{"$error":"#REF!"},"/",{"$error":"#REF!"},{"$error":"#REF!"},{"$error":"#REF!"},null,"경북",{"$f":"COUNTIFS(#REF!,\"병행\",#REF!,R27)","v":{"$error":"#REF!"}},{"$f":"COUNTIFS(#REF!,\"병행\",#REF!,R27)","v":{"$error":"#REF!"}},{"$f":"COUNTIFS(#REF!,\"병행\",#REF!,R27)","v":{"$error":"#REF!"}},null,{"$f":"COUNTIFS(#REF!,\"취소\",#REF!,R27)","v":{"$error":"#REF!"}},{"$f":"COUNTIFS(#REF!,\"취소\",#REF!,R27)","v":{"$error":"#REF!"}},{"$f":"COUNTIFS(#REF!,\"취소\",#REF!,R27)","v":{"$error":"#REF!"}},null,{"$f":"COUNTIFS(#REF!,\"연기\",#REF!,R27)","v":{"$error":"#REF!"}},{"$f":"COUNTIFS(#REF!,\"연기\",#REF!,R27)","v":{"$error":"#REF!"}},{"$f":"COUNTIFS(#REF!,\"연기\",#REF!,R27)","v":{"$error":"#REF!"}},null,{"$f":"COUNTIFS(#REF!,\"y\",#REF!,R27)","v":{"$error":"#REF!"}},{"$f":"COUNTIFS(#REF!,\"y\",#REF!,R27)","v":{"$error":"#REF!"}},{"$f":"COUNTIFS(#REF!,\"y\",#REF!,R27)","v":{"$error":"#REF!"}}]
["부산울산",{"$error":"#REF!"},{"$f":"COUNTIF(#REF!,\"부산울산\")","v":{"$error":"#REF!"}},"/",{"$f":"COUNTIF(#REF!,\"부산울산\")","v":{"$error":"#REF!"}},"/",{"$f":"COUNTIF(#REF!,\"부산울산\")","v":{"$error":"#REF!"}},{"$error":"#REF!"},{"$error":"#REF!"},{"$error":"#REF!"},"/",{"$error":"#REF!"},"/",{"$error":"#REF!"},{"$error":"#REF!"},{"$error":"#REF!"},null,"부산울산",{"$f":"COUNTIFS(#REF!,\"병행\",#REF!,R28)","v":{"$error":"#REF!"}},{"$f":"COUNTIFS(#REF!,\"병행\",#REF!,R28)","v":{"$error":"#REF!"}},{"$f":"COUNTIFS(#REF!,\"병행\",#REF!,R28)","v":{"$error":"#REF!"}},null,{"$f":"COUNTIFS(#REF!,\"취소\",#REF!,R28)","v":{"$error":"#REF!"}},{"$f":"COUNTIFS(#REF!,\"취소\",#REF!,R28)","v":{"$error":"#REF!"}},{"$f":"COUNTIFS(#REF!,\"취소\",#REF!,R28)","v":{"$error":"#REF!"}},null,{"$f":"COUNTIFS(#REF!,\"연기\",#REF!,R28)","v":{"$error":"#REF!"}},{"$f":"COUNTIFS(#REF!,\"연기\",#REF!,R28)","v":{"$error":"#REF!"}},{"$f":"COUNTIFS(#REF!,\"연기\",#REF!,R28)","v":{"$error":"#REF!"}},null,{"$f":"COUNTIFS(#REF!,\"y\",#REF!,R28)","v":{"$error":"#REF!"}},{"$f":"COUNTIFS(#REF!,\"y\",#REF!,R28)","v":{"$error":"#REF!"}},{"$f":"COUNTIFS(#REF!,\"y\",#REF!,R28)","v":{"$error":"#REF!"}}]
["경   남",{"$error":"#REF!"},{"$f":"COUNTIF(#REF!,\"경남\")","v":{"$error":"#REF!"}},"/",{"$f":"COUNTIF(#REF!,\"경남\")","v":{"$error":"#REF!"}},"/",{"$f":"COUNTIF(#REF!,\"경남\")","v":{"$error":"#REF!"}},{"$error":"#REF!"},{"$error":"#REF!"},{"$error":"#REF!"},"/",{"$f":"SUM(W29:Y29)","v":{"$error":"#REF!"}},"/",{"$f":"SUM(AA29:AC29)","v":{"$error":"#REF!"}},null,null,null,"경남",{"$f":"COUNTIFS(#REF!,\"병행\",#REF!,R29)","v":{"$error":"#REF!"}},{"$f":"COUNTIFS(#REF!,\"병행\",#REF!,R29)","v":{"$error":"#REF!"}},{"$f":"COUNTIFS(#REF!,\"병행\",#REF!,R29)","v":{"$error":"#REF!"}},null,{"$f":"COUNTIFS(#REF!,\"취소\",#REF!,R29)","v":{"$error":"#REF!"}},{"$f":"COUNTIFS(#REF!,\"취소\",#REF!,R29)","v":{"$error":"#REF!"}},{"$f":"COUNTIFS(#REF!,\"취소\",#REF!,R29)","v":{"$error":"#REF!"}},null,{"$f":"COUNTIFS(#REF!,\"연기\",#REF!,R29)","v":{"$error":"#REF!"}},{"$f":"COUNTIFS(#REF!,\"연기\",#REF!,R29)","v":{"$error":"#REF!"}},{"$f":"COUNTIFS(#REF!,\"연기\",#REF!,R29)","v":{"$error":"#REF!"}},null,{"$f":"COUNTIFS(#REF!,\"y\",#REF!,R29)","v":{"$error":"#REF!"}},{"$f":"COUNTIFS(#REF!,\"y\",#REF!,R29)","v":{"$error":"#REF!"}},{"$f":"COUNTIFS(#REF!,\"y\",#REF!,R29)","v":{"$error":"#REF!"}}]
["제   주",{"$f":"SUM(C30:G30)","v":{"$error":"#REF!"}},{"$f":"COUNTIF(#REF!,\"제주\")","v":{"$error":"#REF!"}},"/",{"$f":"COUNTIF(#REF!,\"제주\")","v":{"$error":"#REF!"}},"/",{"$f":"COUNTIF(#REF!,\"제주\")","v":{"$error":"#REF!"}},{"$error":"#REF!"},{"$error":"#REF!"},{"$error":"#REF!"},"/",{"$error":"#REF!"},"/",{"$error":"#REF!"},{"$error":"#REF!"},{"$f":"(O30/B30)","v":{"$error":"#REF!"}},null,"제주",{"$f":"COUNTIFS(#REF!,\"병행\",#REF!,R30)","v":{"$error":"#REF!"}},{"$f":"COUNTIFS(#REF!,\"병행\",#REF!,R30)","v":{"$error":"#REF!"}},{"$f":"COUNTIFS(#REF!,\"병행\",#REF!,R30)","v":{"$error":"#REF!"}},null,{"$f":"COUNTIFS(#REF!,\"취소\",#REF!,R30)","v":{"$error":"#REF!"}},{"$f":"COUNTIFS(#REF!,\"취소\",#REF!,R30)","v":{"$error":"#REF!"}},{"$f":"COUNTIFS(#REF!,\"취소\",#REF!,R30)","v":{"$error":"#REF!"}},null,{"$f":"COUNTIFS(#REF!,\"연기\",#REF!,R30)","v":{"$error":"#REF!"}},{"$f":"COUNTIFS(#REF!,\"연기\",#REF!,R30)","v":{"$error":"#REF!"}},{"$f":"COUNTIFS(#REF!,\"연기\",#REF!,R30)","v":{"$error":"#REF!"}},null,{"$f":"COUNTIFS(#REF!,\"y\",#REF!,R30)","v":{"$error":"#REF!"}},{"$f":"COUNTIFS(#REF!,\"y\",#REF!,R30)","v":{"$error":"#REF!"}},{"$f":"COUNTIFS(#REF!,\"y\",#REF!,R30)","v":{"$error":"#REF!"}}]
[]
[" 붙임 :  1. 집중심의내역 1부"]
[" 붙임 :  전압별 검토서 1부. 끝."]
[]
[null,{"$f":"SUM(B16:B30)","v":{"$error":"#REF!"}},{"$f":"SUM(C16:C30)","v":{"$error":"#REF!"}},null,{"$f":"SUM(E16:E30)","v":{"$error":"#REF!"}},null,{"$f":"SUM(G16:G30)","v":{"$error":"#REF!"}},{"$f":"SUM(H16:H30)","v":{"$error":"#REF!"}},{"$f":"SUM(I16:I30)","v":{"$error":"#REF!"}},{"$f":"SUM(J16:J30)","v":{"$error":"#REF!"}},null,{"$f":"SUM(L16:L30)","v":{"$error":"#REF!"}},null,{"$f":"SUM(N16:N30)","v":{"$error":"#REF!"}},{"$f":"SUM(O16:O30)","v":{"$error":"#REF!"}}]
[{"$f":"COUNTIF(B36:N36,\"NO\")","v":0},{"$f":"IF(B35=B12,\"\",\"NO\")","v":{"$error":"#REF!"}},{"$f":"IF(C35=B9,\"\",\"NO\")","v":{"$error":"#REF!"}},null,{"$f":"IF(E35=B10,\"\",\"NO\")","v":{"$error":"#REF!"}},null,{"$f":"IF(G35=B11,\"\",\"NO\")","v":{"$error":"#REF!"}},{"$f":"IF(H35=D12,\"\",\"NO\")","v":{"$error":"#REF!"}},{"$f":"IF(I35=I12,\"\",\"NO\")","v":{"$error":"#REF!"}},{"$f":"IF(J35=J12,\"\",\"NO\")","v":{"$error":"#REF!"}},null,{"$f":"IF(L35=L12,\"\",\"NO\")","v":{"$error":"#REF!"}},null,{"$f":"IF(N35=N12,\"\",\"NO\")","v":{"$error":"#REF!"}}]
[{"$f":"IF(A36>=1,\"틀린곳\",\"\")","v":""},{"$f":"IF(B36=\"NO\",\"총계\",\"\")","v":{"$error":"#REF!"}},{"$f":"IF(C36=\"NO\",\"765\",\"\")","v":{"$error":"#REF!"}},{"$f":"IF(D36=\"NO\",\"총계\",\"\")","v":""},{"$f":"IF(E36=\"NO\",\"345\",\"\")","v":{"$error":"#REF!"}},"",{"$f":"IF(G36=\"NO\",\"154\",\"\")","v":{"$error":"#REF!"}},{"$f":"IF(H36=\"NO\",\"채택\",\"\")","v":{"$error":"#REF!"}},{"$f":"IF(I36=\"NO\",\"불채택\",\"\")","v":{"$error":"#REF!"}},{"$f":"IF(J36=\"NO\",\"병행\",\"\")","v":{"$error":"#REF!"}},"",{"$f":"IF(L36=\"NO\",\"취소\",\"\")","v":{"$error":"#REF!"}},"",{"$f":"IF(N36=\"NO\",\"연기\",\"\")","v":{"$error":"#REF!"}}]

{"sheet":"집중심의","index":1,"n_rows":39,"n_cols":11,"rows_kept":39,"cut":false,"hidden":true,"merged":[[0,1,0,10],[2,6,2,7],[2,8,2,9]]}
[null,"'18년 12월 주요휴전 집중심의 대상"]
[]
["번호","전압","본부","설 비 명","공     사    개    요","심의사유","신청일시(일수)",null,"심의일시(일수)",null,"비  고"]
[1,345,"경기","화성S/S 70-71-0 SEC CB(70-71-0)"," 화성S/S 용량부족 차단기대체 및 SW증설 공사","장기휴전","18-12-01 09:00 ~ 19-04-30 18:00",151]
[2,345,"경기","화성S/S 345kV #1LCR 71BUS CB(7177)"," 화성S/S 용량부족 차단기대체 및 SW증설 공사","장기휴전","18-12-01 09:00 ~ 19-04-30 18:00",151]
[3,345,"경기","화성S/S 345kV #1LCR 70BUS CB(7077)"," 화성S/S 용량부족 차단기대체 및 SW증설 공사","장기휴전","18-12-01 09:00 ~ 19-04-30 18:00",151]
[4,345,"경기","화성S/S 345kV #70 BUS"," 화성S/S 용량부족 차단기대체 및 SW증설 공사","장기휴전","18-12-01 09:00 ~ 19-04-30 18:00",151]
[5,345,"경기","화성S/S 345kV #2LCR 75BUS GIS CB(7577)"," 화성S/S 용량부족 차단기대체 및 SW증설 공사","동시휴전","12-03 09:00 ~ \n12-07 18:00",5]
[6,345,"경기","화성S/S 345kV #2LCR 76BUS GIS CB(7677)"," 화성S/S 용량부족 차단기대체 및 SW증설 공사","동시휴전","12-03 09:00 ~\n12-07 18:00",5]
[7,345,"경기","화성S/S 345kV #71 BUS"," 화성S/S 용량부족 차단기대체 및 SW증설 공사","장기휴전","12-11 09:00 ~\n12-25 18:00",15]
[8,154,"전북","신김제S/S #61 EM.Tr","신김제 ESS 정밀점검","장기휴전\n(ESS 정지)","12-01 09:00 ~\n12-12 18:00",12,null,null,"ESS 정지"]
[9,154,"광주전남","나주변전소 T/L","나주옥내화 관련 154kV 송전선로 이설공사","장기휴전","19-03~19-05","3개월","19-03~19-05","3개월","19년 중요휴전 사전협의"]
[10,154,"광주전남","장성영광#1T/L","154kV 장성-영광#1T/L 비표준 EB-A 자기애관 교체공사\n○ EB-A 교체 #1T/L A,B상\n○ 케이블 포설 #1T/L A,B상 114m\n○ 무접지 PMNJ #1T/L A,B상\n○ 기타 부대공사 2식 ","계통안정","11-19 09:00 ~ 11-26 18:00",8,"11-19 09:00 ~\n11-26 18:00",8]
[11,154,"광주전남","장성영광#2T/L"," 154kV 장성-영광#1T/L 비표준 EB-A 자기애관 교체공사\n○ EB-A 부분방전 진단 UWB센서 설치(#2T/L) ","계통안정","11-27 09:00 ~ 11-27 15:00",1,"11-27 09:00 ~\n11-27 15:00",1]
[12,154,"대구","논공S/S #1EM.Tr","23kV GIS - ESS GIS 모선연계","ESS 설비","12-17 09:00 ~ 12-20 18:00",4]
[13,345,"부산울산","신김해북부산#1,2 T/L","북부산S/S 구내 가공지선 철거\n(신김해-북부산#1,2 T/L 횡단개소)","동시휴전","12-04 09:00 ~ 12-04 18:00",1]
[14,345,"부산울산","울산C/C #3 M.Tr A","울산C/C 345kV #3M.Tr 보통점검 및 2차 차단기 동작시험","발전소 연계선로","12-10 09:00 ~ 12-11 18:00",2]
[15,345,"부산울산","신온산S/S #1 M.Tr A","신온산S/S 345kV #1M.Tr 보통점검 신온산S/S 345kV 7200,7272 차단기 동작시험 신온산S/S 154kV 6144 GIS, 23kV 6484 CB 보통점검","발전소 연계선로","12-06 09:00 ~ 12-07 18:00",2]
[16,345,"부산울산","서창산막#1 T/L","양산사송 공공주택지구 내 지장철탑 이설","계통안정","12-07 07:00 ~ 12-09 18:00",3]
[17,345,"부산울산","신양산북부산#2 T/L","345kV 신양산-북부산 T/L : 41-43호 154kV 노포-정관T/L : 8-12호 신설철탑 : 1기, 가철탑 : 1기","장기휴전","12-09 08:00 ~ 12-11 18:00",3]
[18,345,"부산울산","신양산북부산#1 T/L","345kV 신양산-북부산 T/L : 41-43호 154kV 노포-정관T/L : 8-12호 신설철탑 : 1기, 가철탑 : 1기","장기휴전","12-12 08:00 ~ 12-19 18:00",8]
[19,345,"부산울산","신양산북부산#2 T/L","345kV 신양산-북부산 T/L : 41-43호 154kV 노포-정관T/L : 8-12호 신설철탑 : 1기, 가철탑 : 1기","장기휴전","12-20 08:00 ~ 12-24 18:00",5]
[20,154,"부산울산","노포정관#2 T/L","345kV 신양산-북부산 T/L : 41-43호 154kV 노포-정관T/L : 8-12호 신설철탑 : 1기, 가철탑 : 1기","장기휴전","12-12 08:00 ~ 12-24 18:00",13]
[21,154,"부산울산","노포정관#1 T/L","345kV 신양산-북부산 T/L : 41-43호 154kV 노포-정관T/L : 8-12호 신설철탑 : 1기, 가철탑 : 1기","장기휴전","12-25 08:00 ~ 12-28 18:00",4]
[22,154,"부산울산","서부산-부민#1 T/L","154kV 서부산-신평,YK T/L 지중화사업 ","발전소 연계선로","12-18 12:00 ~ 12-18 13:00",1]
[23,154,"부산울산","서부산S/S #65BUS","154kV 서부산-신평,YK T/L 지중화사업 ","발전소 연계선로","12-18 12:00 ~ 12-18 13:00",1]
[24,345,"경남","신마산-삼천포T/P #2 T/L"," 345kV 신마산S/S 용량부족 차단기 대체공사","계통안정","12-01 07:00 ~ 12-04 19:00",4]
[25,154,"경남","신마산S/S 154kV #61 BUS"," 345kV 신마산S/S 용량부족 차단기 대체공사","계통안정","12-05 15:00 ~ 12-05 18:00",1]
[26,345,"경남","의령-신마산 #1 T/L"," 345kV 신마산S/S 용량부족 차단기 대체공사","계통안정","12-05 06:30 ~ 12-11 18:00",7]
[27,345,"경남","의령-신마산 #2 T/L"," 345kV 신마산S/S 용량부족 차단기 대체공사","계통안정","12-12 06:30 ~ 12-18 18:00",7]
[28,345,"경남","신마산-삼천포T/P #2 T/L"," 345kV 신마산S/S 용량부족 차단기 대체공사","계통안정","12-19 06:30 ~ 12-24 18:00",7]
[29,345,"경남","신마산-삼천포T/P #1 T/L"," 345kV 신마산S/S 용량부족 차단기 대체공사","계통안정","12-25 06:30 ~ 12-30 18:00",7]
[30,154,"경남","신마산-칠서 #1 T/L"," 345kV 신마산S/S 용량부족 차단기 대체공사","계통안정","12-22 07:00 ~ 12-22 19:00",1]
[31,154,"경남","신마산-칠서 #2 T/L"," 345kV 신마산S/S 용량부족 차단기 대체공사","계통안정","12-22 07:00 ~ 12-22 19:00",1]
[32,154,"경남","신마산S/S 154kV #60 BUS"," 345kV 신마산S/S 용량부족 차단기 대체공사","계통안정","12-22 15:00 ~ 12-22 18:00",1]
[33,345,"경남","신마산S/S #5 M.Tr"," 345kV 신마산S/S 용량부족 차단기 대체공사","계통안정","12-23 07:00 ~ 01-08 18:00",17]
[34,154,"경남","신마산-칠서 #1 T/L"," 345kV 신마산S/S 용량부족 차단기 대체공사","계통안정","12-29 07:00 ~ 12-29 19:00",1]
[35,154,"경남","신마산-칠서 #2 T/L"," 345kV 신마산S/S 용량부족 차단기 대체공사","계통안정","12-29 07:00 ~ 12-29 19:00",1]
[36,154,"경남","의령S/S #1EM.Tr ","#1EM.Tr 하자점검","ESS휴전","12-05 09:00 ~ 12-05 18:30",1]

{"sheet":"765송부","index":2,"n_rows":7,"n_cols":16,"rows_kept":7,"cut":false,"hidden":false,"merged":[[2,15,3,15],[2,0,3,0],[2,1,3,1],[2,3,3,3],[2,10,3,10],[2,4,3,4],[2,5,3,5],[2,6,2,7],[2,8,2,9],[2,14,3,14],[2,12,3,12],[2,13,3,13],[2,2,3,2],[2,11,3,11]]}
[{"$f":"\"2019년도 \"&종합!R15&\"월 휴전계획서\"","v":"2019년도 2월 휴전계획서"}]
["765kV"]
["번호","1차사업소","사업소","설비명","공사명","공사개요","신청일시",null,"조정일시",null,"작업구분","연간반영\n(Y/N)","처리결과\n(Y/N)","처리사유","Key-point","시송전설비\n 여부"]
[{"$nulls":6},"시작","종료","시작","종료"]
[1,"강원","태백","신태백신가평#2 T/L","신태백S/S 8661DS 내부점검","8661DS B상 내부점검 및 불량자재 교체","2019-02-04 09:00","2019-02-08 18:00","2019-02-27 09:00","2019-03-03 18:00","연속",null,null,null,201812130059]
[2,"경북","영주","신한울S/S #1 M.Tr A-1","신한울S/S 765kV #1M.Tr 접지 소손 보수공사","신한울S/S 765kV #1M.Tr 접지선 발열부 Bellows 교체공사","2019-02-18 09:00","2019-02-21 18:00","2019-02-18 09:00","2019-02-21 18:00","연속",null,null,null,201812050019]
[3,"경남","함안","북경남S/S 765kV #1 BUS","북경남S/S 800kV #1BUS 스페이서 교체공사","북경남S/S 800kV #1BUS 스페이서 교체공사","2019-02-19 09:00","2019-04-05 18:00","2019-02-25 09:00","2019-04-05 18:00","연속"]

{"sheet":"345송부","index":3,"n_rows":58,"n_cols":16,"rows_kept":58,"cut":false,"hidden":false,"merged":[[2,15,3,15],[2,14,3,14],[2,0,3,0],[2,1,3,1],[2,3,3,3],[2,10,3,10],[2,4,3,4],[2,5,3,5],[2,6,2,7],[2,8,2,9],[2,12,3,12],[2,13,3,13],[2,2,3,2],[2,11,3,11]]}
[{"$f":"\"2019년도 \"&종합!R15&\"월 휴전계획서\"","v":"2019년도 2월 휴전계획서"}]
["345kV"]
["번호","1차사업소","사업소","설비명","공사명","공사개요","신청일시",null,"조정일시",null,"작업구분","연간반영\n(Y/N)","처리결과\n(Y/N)","처리사유","Key-point","시송전설비\n여부"]
[{"$nulls":6},"시작","종료","시작","종료"]
[1,"남서울","직할","신광명영등포#2 T/L","345kV T/L 보호반 교체공사","신광명-영등포#2T/L 보호반 교체공사","2019-02-04 12:00","2019-02-06 18:00","2019-02-04 12:00","2019-02-06 18:00","연속",null,null,null,201812140024]
[2,"남서울","직할","신광명영등포#1 T/L","345kV T/L 보호반 교체공사","신광명-영등포#1T/L 보호반 교체공사","2019-02-01 18:00","2019-02-04 12:00","2019-02-01 18:00","2019-02-04 12:00","연속",null,null,null,201812140021]
[3,"인천","인천","(신)신인천C/C TIE-4MT001 CB (7900(신))","신인천복합S/Y 7900 GIS 하자점검","신인천복합S/Y 7900 GIS 하자점검","2019-02-26 09:00","2019-02-26 18:00","2019-02-26 09:00","2019-02-26 18:00","당일",null,null,null,201812030075]
[4,"인천","인천","(신)신인천C/C 3MT001 CB (7671(신))","신인천복합S/Y 7671 GIS 하자점검","신인천복합S/Y 7671 GIS 하자점검","2019-02-25 09:00","2019-02-25 18:00","2019-02-25 09:00","2019-02-25 18:00","당일",null,null,null,201812030073]
[5,"인천","인천","(신)신인천C/C 4MT001 CB (7972(신))","신인천복합S/Y 7972 GIS 하자점검","신인천복합S/Y 7972 GIS 하자점검","2019-02-27 09:00","2019-02-27 18:00","2019-02-27 09:00","2019-02-27 18:00","당일",null,null,null,201812030076]
[6,"인천","인천","(신)신인천C/C 4MT201 CB (7872(신))","신인천복합S/Y 7872 GIS 하자점검","신인천복합S/Y 7872 GIS 하자점검","2019-02-28 09:00","2019-02-28 18:00","2019-02-28 09:00","2019-02-28 18:00","당일",null,null,null,201812030077]
[7,"인천","인천","인천CC S/Y 가정인천CC#2-#2TIE Tr 1차 CB (7C00)","인천복합S/Y 7C00 GIS 조작시험","인천복합S/Y 7C00 GIS 조작시험","2019-02-26 09:00","2019-02-26 13:00","2019-02-26 09:00","2019-02-26 13:00","당일",null,null,null,201812030081]
[8,"인천","인천","인천CC S/Y 인천복합 #3S/T CB (7B72)","인천복합S/Y 7B72 GIS 조작시험","인천복합S/Y 7B72 GIS 조작시험","2019-02-25 09:00","2019-02-25 13:00","2019-02-25 09:00","2019-02-25 13:00","당일",null,null,null,201812030078]
[9,"인천","인천","인천CC S/Y #2 TIE Tr 1차 CB (7C72)","인천복합S/Y 7C72 GIS 조작시험","인천복합S/Y 7C72 GIS 조작시험","2019-02-25 13:00","2019-02-25 18:00","2019-02-25 13:00","2019-02-25 18:00","당일",null,null,null,201812030079]
[10,"인천","인천","인천CC S/Y 가정인천CC#2T/L CB (7C71)","인천복합S/Y 7C71 GIS 조작시험","인천복합S/Y 7C71 GIS 조작시험","2019-02-26 13:00","2019-02-26 18:00","2019-02-26 13:00","2019-02-26 18:00","당일",null,null,null,201812030080]
[11,"인천","인천","인천CC S/Y 신경서인천CC#2T/L CB (7471)","인천복합S/Y 7471 GIS 조작시험","인천복합S/Y 7471 GIS 조작시험","2019-02-27 09:00","2019-02-27 13:00","2019-02-27 09:00","2019-02-27 13:00","당일",null,null,null,201812030082]
[12,"인천","인천","인천CC S/Y 가정인천CC#1T/L CB (7472)","인천복합S/Y 7472 GIS 조작시험","인천복합S/Y 7472 GIS 조작시험","2019-02-27 13:00","2019-02-27 18:00","2019-02-27 13:00","2019-02-27 18:00","당일",null,null,null,201812030083]
[13,"경기북부","구리","미금S/S 신가평-미금#2T/L GIS","345kV GIS 보통점검(7871 단독 CB)","345kV GIS 보통점검(7871 단독 CB) - 보통점검 시행","2019-02-22 09:00","2019-02-22 18:00","2019-02-22 09:00","2019-02-22 18:00","당일",null,null,null,201812170125]
[14,"경기북부","구리","미금S/S 345kV #6Sh.R - #2BUS GIS","345kV GIS 보통점검(7272 단독 CB)","345kV GIS 보통점검(7272 단독 CB) - 보통점검 시행","2019-02-18 09:00","2019-02-18 18:00","2019-02-18 09:00","2019-02-18 18:00","당일",null,null,null,201812170121]
[15,"경기북부","구리","미금S/S 동서울미금#1T/L GIS","345kV GIS 보통점검(7371 단독 CB)","345kV GIS 보통점검(7371 단독 CB) - 보통점검 시행","2019-02-19 09:00","2019-02-19 18:00","2019-02-19 09:00","2019-02-19 18:00","당일",null,null,null,201812170122]
[16,"경기북부","구리","미금S/S 신의정부미금#1T/L GIS","345kV GIS 보통점검(7671 단독 CB)","345kV GIS 보통점검(7671 단독 CB) - 보통점검 시행","2019-02-20 09:00","2019-02-20 18:00","2019-02-20 09:00","2019-02-20 18:00","당일",null,null,null,201812170123]
[17,"경기북부","구리","미금S/S 동서울미금#2T/L-TIE GIS","345kV GIS 보통점검(7400 단독 CB)","345kV GIS 보통점검(7400 단독 CB) - 보통점검 시행","2019-02-26 09:00","2019-02-26 18:00","2019-02-26 09:00","2019-02-26 18:00","당일",null,null,null,201812170127]
[18,"경기북부","구리","미금S/S 신가평미금#2T/L-TIE GIS","345kV GIS 보통점검(7800 단독 CB)","345kV GIS 보통점검(7800 단독 CB) - 보통점검 시행","2019-02-25 09:00","2019-02-25 18:00","2019-02-25 09:00","2019-02-25 18:00","당일",null,null,null,201812170126]
[19,"경기북부","구리","미금S/S #1 M.Tr A","미금S/S #1M.Tr 3차 VCB 교체공사","미금S/S #1M.Tr 3차 VCB 교체공사","2019-02-23 09:00","2019-02-24 18:00","2019-02-23 09:00","2019-02-24 18:00","연속",null,null,null,201812140043]
[20,"경기북부","구리","미금S/S 신가평-미금#1T/L GIS","345kV GIS 보통점검(7771 단독 CB)","345kV GIS 보통점검(7771 단독 CB) - 보통점검 시행","2019-02-21 09:00","2019-02-21 18:00","2019-02-21 09:00","2019-02-21 18:00","당일",null,null,null,201812170124]
[21,"경기북부","구리","신가평포천LNGCC#2 T/L","345kV 신가평포천LNGCC#2T/L 항공장애표시구 설치공사","ㅇ 내용 : 항공장애구 설치 ㅇ 대상 : 11-12호 등 9경간","2019-02-25 06:00","2019-02-27 18:00","2019-02-25 06:00","2019-02-27 18:00","매일",null,null,null,201812060052]
[22,"경기북부","직할","양주중부#2 T/L","345kV 양주-중부T/L 지중화 정비공사 본선로 구성공사","ㅁ 전력선 공중이동 - 구간 : 임시No.1 ~ C/H , C/H ~ 임시No.4 ㅁ 인하선 설치 및 지중케이블 연결공사","2019-02-27 07:00","2019-03-02 18:00","2019-02-27 07:00","2019-03-02 18:00","연속",null,null,null,201812120012]
[23,"경기북부","직할","양주S/S #2 M.Tr A","양주S/S 345kV M.Tr 3차측 GIS화 공사","1. 양주S/S 170kV GIS화 공사 관련 345kV M.Tr 3차측 GIS화 공사 2. 23kV VCB 철거 및 SIS 40kA 설치(4대)","2019-02-25 09:00","2019-03-06 18:00","2019-02-25 09:00","2019-03-06 18:00","연속",null,null,null,201812170114]
[24,"경기북부","직할","양주중부#1 T/L","345kV 양주-중부T/L 지중화 정비공사 본선로 구성공사","ㅁ 전력선 공중이동 - 구간 : 임시No.1 ~ C/H , C/H ~ 임시No.4 ㅁ 인하선 설치 및 지중케이블 연결공사","2019-02-23 07:00","2019-02-26 18:00","2019-02-23 07:00","2019-02-26 18:00","연속",null,null,null,201812120011]
[25,"강원","동해","동해S/S 345kV #2 BUS","동해S/S STATCOM용 GIS 설치공사","○ 362kV 6300A 63kA GIS × 2CB ○ 기타부대공사 1식","2019-02-26 14:00","2019-02-27 18:00","2019-02-26 14:00","2019-02-27 18:00","연속",null,null,null,201812170084]
[26,"강원","동해","동해S/S 345kV #1 BUS","동해S/S STATCOM용 GIS 설치공사","○ 362kV 6300A 63kA GIS × 2CB ○ 기타부대공사 1식","2019-02-26 09:00","2019-02-26 13:30","2019-02-26 09:00","2019-02-26 13:30","당일",null,null,null,201812170083]
[27,"충북","직할","신제천S/S #2 M.Tr A","345kV 신제천 TCSC 설치공사","- 23kV CB 설치 * 4대(3000A*2, 600*2) - 23kV DS 설치 * 4대 - S.Tr 설치 * 2대 - 기타부대공사","2019-02-25 08:30","2019-03-01 18:00","취소","취소","연속",null,null,null,201812200040]
[28,"충북","직할","신제천동해#1 T/L","345kV 신제천S/S TCSC용 GIB 설치공사","GIB 362kV 6300A 63kA 1식","2019-02-24 09:00","2019-03-12 18:00","2019-02-13 09:00","2019-02-26 18:00","연속",null,null,null,201812100062]
[29,"충북","청주","청원신진천#2 T/L","345kV 신중부분기T/L 건설공사","○ 사업규모 : HSTACIR/AW 410(2B)×4C×3.408km ○ 지 지 물 : 설치8기, 철거 2기 ○ 기타 신중부변전소 건설후 환원시 T/L변경 복구","2019-02-11 07:00","2019-02-18 18:00","2019-02-11 07:00","2019-02-19 18:00","연속",null,null,null,201807110009]
[30,"전북","군산","군산S/S #1 M.Tr A","군산S/S #1 M.Tr A","군산S/S 345kV 모자익 대체공사","2019-02-11 09:00","2019-02-15 18:00","2019-02-11 09:00","2019-02-15 18:00","연속",null,null,null,201811190018]
[31,"전북","군산","군산S/S #2 M.Tr A","군산S/S #2 M.Tr A","군산S/S 345kV 모자익 대체공사","2019-02-18 09:00","2019-02-22 18:00","2019-02-18 09:00","2019-02-22 18:00","연속",null,null,null,201811190019]
[32,"전북","군산","군산S/S #3 M.Tr A","군산S/S #3 M.Tr A","군산S/S 345kV 모자익 대체공사","2019-02-25 09:00","2019-03-01 18:00","2019-02-25 09:00","2019-03-01 18:00","연속",null,null,null,201811190021]
[33,"전북","직할","신남원광양#1 T/L","345kV 신남원-광양T/L 안전이격 확보공사","가. 철탑철거 : 2기 [No.214(T-14), No.216(F-21)] 나. 철탑설치 : 2기 [No.214(C2-26), No.216(SF-36)] 다. 전력선 교체 : 1.790km [ACSR 480㎟ x 2B] , 12가닥 라. 가선로 구성 : 가철탑 1기 (No.216","2019-02-25 08:00","2019-03-02 18:00","2019-02-25 08:00","2019-03-02 18:00","연속",null,null,null,201810310058]
[34,"대구","경산","신경산S/S #3 M.Tr A","신경산S/S #3M.Tr 휴전","A,B상 1차측 부싱교체","2019-02-18 09:00","2019-02-23 18:00","2019-02-18 09:00","2019-02-23 18:00","연속",null,null,null,201812190005]
[35,"대구","달성","고령S/S #2 M.Tr A","154kV 고령-서구지T/L SW증설공사","154kV 고령-서구지T/L SW증설공사","2019-02-24 09:00","2019-02-24 18:00","2019-02-24 09:00","2019-02-24 18:00","당일",null,null,null,201812130033]
[36,"경북","영주","신영주한울NP2#2 T/L","신영주S/S TCSC 건설공사","- 345kV GIS(63kA 6,300A) DS 및 GIB * 1식 설치","2019-02-18 10:00","2019-02-28 10:00","취소","취소","연속",null,null,null,201812030085]
[37,"경북","영주","신영주한울NP2#1 T/L","신영주S/S TCSC 건설공사","- 345kV GIS(63kA 6,300A) DS 및 GIB * 1식 설치","2019-02-28 11:00","2019-03-14 18:00","취소","취소","연속",null,null,null,201812030086]
[38,"경북","영주","신한울한울#2 T/L","2019년 가공송전선로 순시점검 위탁공사","345kV 신한울-한울연락#2 T/L 송전선로 정밀점검","2019-02-22 09:00","2019-02-22 18:00","2019-02-22 09:00","2019-02-22 18:00","당일",null,null,null,201812100040]
[39,"부산울산","동부산","신양산S/S #1 M.Tr A","345kV 신양산S/S 현대화 공사","154kV GIS 붓싱설치 및 기태부대작업(안전이격)","2019-02-13 09:00","2019-02-13 18:00","2019-02-18 09:00","2019-02-18 18:00","당일",null,null,null,201812060030]
[40,"부산울산","동부산","신양산S/S #4 M.Tr A","345kV 신양산S/S 현대화 공사","154kV GIS 붓싱설치 및 기태부대작업(안전이격)","2019-02-15 09:00","2019-02-15 18:00","2019-02-20 09:00","2019-02-20 18:00","당일",null,null,null,201812060032]
[41,"부산울산","동부산","신양산S/S #2 M.Tr A","345kV 신양산S/S 현대화 공사","154kV GIS 붓싱설치 및 기태부대작업(안전이격)","2019-02-14 09:00","2019-02-14 18:00","2019-02-19 09:00","2019-02-19 18:00","당일",null,null,null,201812060031]
[42,"부산울산","북부산","서부산북부산#3 T/L","2019년 북부산 변전협력회사 총액공사","북부산S/S 345kV 서부산-북부산#3T/L 가스누기 보수","2019-02-25 09:00","2019-03-01 18:00","2019-02-25 09:00","2019-03-01 18:00","연속",null,null,null,201812060053]
[43,"부산울산","울산","동울산월성NP#2 T/L","유사고장예방관련 보호계전기 성능개선","동울산S/S 345kV 동울산-월성NP#2T/L 송전선로 보호계전기 제작사 성능개선(보호제어파트 시험)","2019-02-28 15:00","2019-02-28 18:00","2019-02-28 15:00","2019-02-28 18:00","당일",null,null,null,201812170045]
[44,"부산울산","울산","동울산월성NP#1 T/L","유사고장예방관련 보호계전기 성능개선","동울산S/S 345kV 동울산-월성NP#1T/L 송전선로 보호계전기 제작사 성능개선(보호제어파트 시험)","2019-02-28 12:00","2019-02-28 15:00","2019-02-28 12:00","2019-02-28 15:00","당일",null,null,null,201812170044,"O"]
[45,"부산울산","울산","동울산신울산#1 T/L","유사고장예방관련 보호계전기 성능개선","동울산S/S 345kV 동울산-신울산#1T/L 송전선로 보호계전기 제작사 성능개선(보호제어파트 시험)","2019-02-28 09:00","2019-02-28 12:00","2019-02-28 09:00","2019-02-28 12:00","당일",null,null,null,201812170043,"O"]
[46,"부산울산","울산","신온산S/S #4 M.Tr A","2018-19년 울산전력지사 변전협력회사 총액공사","신온산S/S 345kV #4M.Tr A,B상 하자점검 신온산S/S 362kV 7672,7600,6444 GIS 하자점검","2019-02-25 09:00","2019-02-26 18:00","2019-02-25 09:00","2019-02-26 18:00","연속",null,null,null,201812060068]
[47,"부산울산","울산","신온산S/S #1 M.Tr A","2018-19년 울산전력지사 변전협력회사 총액공사","신온산S/S 345kV #1M.Tr 보통점검 및 절연유 채유 신온산S/S 7200,7272 차단기 동작시험 및 6144,4184 보통점검 #1S.Tr 초기점검","2019-02-27 09:00","2019-02-28 18:00","2019-02-27 09:00","2019-02-28 18:00","연속",null,null,null,201812060069]
[48,"부산울산","울산","울주월성NP#1 T/L","2018-19년 울산전력지사 변전협력회사 총액공사","1.울주S/S 345kV 7900,7971 GIS 보통점검 2.울주S/S 345kV 울주-월성NP#1T/L CVT,LA 대체","2019-02-25 09:00","2019-02-26 18:00","2019-02-25 09:00","2019-02-26 18:00","연속",null,null,null,201812060070]
[49,"경남","직할","신김해신녹산#1 T/L","2018-2019 경남 직할 송전협력회사 총액공사(피뢰기 설치)","345kV 신김해-신녹산#1T/L 1-22호 피뢰기 설치","2019-02-24 07:00","2019-03-01 18:00","2019-02-24 07:00","2019-03-01 18:00","매일",null,null,null,201812040073]
[50,"경남","직할","신김해S/S #1 M.Tr A","신김해S/S 170kV 장기사용 GIS 대체공사(3차공정)","신김해S/S 170kV 장기사용 GIS 대체공사(3차공정) 60-61B/S 교체(설치,철거시 안전이격거리 확보)","2019-02-16 08:00","2019-02-19 17:30","2019-02-16 08:00","2019-02-19 17:30","연속",null,null,null,201812070058]
[51,"경남","통영","삼천포T/P #3 M.Tr 1차 GIS","삼천포,신고성S/S 용량부족차단기대체공사","삼천포화력 3호기 인출변경에 따른 동일 BAY 신마산-삼천포화력#1T/L 양모선 운전을 위한 모선보호구간 확장 작업","2019-02-01 09:00","2019-02-01 18:00","취소","취소","당일",null,null,null,201812130027]
[52,"경남","통영","(신)삼천포T/P 345kV #70 BUS CB","삼천포,신고성S/S 용량부족차단기대체공사","삼천포화력 3호기 인출변경에 따른 동일 BAY 신마산-삼천포화력#1T/L 양모선 운전을 위한 모선보호구간 확장 작업","2019-02-01 13:00","2019-02-01 18:00","취소","취소","당일",null,null,null,201812130034]
[53,"경남","통영","삼천포T/P 신마산#1T/L-#3 M.Tr 1차 GIS","삼천포,신고성S/S 용량부족차단기대체공사","삼천포화력 3호기 인출변경에 따른 동일 BAY 신마산-삼천포화력#1T/L 양모선 운전을 위한 모선보호구간 확장 작업","2019-02-01 09:00","2019-02-01 18:00","취소","취소","당일",null,null,null,201812130030]
[54,"경북","한울본부","신한울NP 765kV #1 BUS","#1 BUS Bellows 교체 작업 수행\n* 조작차단기 : PCB 8171, 8200, 8371, 8471","#1 BUS Bellows 교체 작업 수행\n* 조작차단기 : PCB 8171, 8200, 8371, 8471","2019-02-11 10:00","2019-02-21 18:00","2019-02-11 10:00","2019-02-21 18:00","연속"]

{"sheet":"154송부","index":4,"n_rows":82,"n_cols":16,"rows_kept":82,"cut":false,"hidden":false,"merged":[[2,15,3,15],[2,0,3,0],[2,1,3,1],[2,3,3,3],[2,10,3,10],[2,4,3,4],[2,5,3,5],[2,6,2,7],[2,8,2,9],[2,14,3,14],[2,12,3,12],[2,13,3,13],[2,2,3,2],[2,11,3,11]]}
[{"$f":"\"2019년도 \"&종합!R15&\"월 휴전계획서\"","v":"2019년도 2월 휴전계획서"}]
["154kV"]
["번호","1차사업소","사업소","설비명","공사명","공사개요","신청일시",null,"조정일시",null,"작업구분","연간반영\n(Y/N)","처리결과\n(Y/N)","처리사유","Key-point","시송전설비\n여부"]
[{"$nulls":6},"시작","종료","시작","종료"]
[1,"서울","중부","동빙고반포#1 T/L","154kV 동빙고S/S 인출T/L 교체공사","154kV 동빙고-반포#1T/L 인출선로 OF→XLPE 교체 0.38km","2019-02-18 09:00","2019-04-12 18:00","취소","취소","연속",null,null,null,201812180039]
[2,"남서울","영등포","화곡마곡#2 T/L","154kV 마곡S/S #4M.Tr 증설공사","170kV GIS 1CCT 증설 - 무부하가압(24H)","2019-02-14 13:00","2019-02-15 18:00","취소","취소","연속",null,null,null,201812100127]
[3,"남서울","영등포","마곡S/S 154kV #1 BUS","154kV 마곡S/S #4M.Tr 증설공사","154kV M.Tr x 1 bank 170kV GIS x 1 cct 25.8kV SIS x 3 cct","2019-02-11 09:00","2019-02-15 18:00","취소","취소","연속",null,null,null,201812100126]
[4,"남서울","영등포","마곡S/S 154kV #2 BUS","154kV 마곡S/S #4M.Tr 증설공사","154kV M.Tr x 1 bank 170kV GIS x 1 cct 25.8kV SIS x 3 cct","2019-02-18 09:00","2019-02-22 18:00","취소","취소","연속",null,null,null,201812100128]
[5,"남서울","영등포","화곡마곡#2 T/L","154kV 마곡S/S #4M.Tr 증설공사","170kV GIS 1CCT 증설 - 무부하가압(24H)","2019-02-21 13:00","2019-02-22 18:00","취소","취소","연속"]
[6,"인천","시흥","서서울#2소래 T/L","서서울2소래 등 2개 T/L 피뢰기 열화진단","피뢰기 열화진단 및 애관청소 등","2019-02-28 08:00","2019-02-28 18:00","2019-02-28 08:00","2019-02-28 18:00","당일",null,null,null,201812070010]
[7,"인천","인천","서인천C/C 154kV #65 BUS","서인천복합S/Y등 3개소 RTU 교체 관련 제어케이블 정비공사","□ 휴전목적 : RTU 교체 공사 전 사전작업 시행 □ 휴전작업 내용 : 154kV 60,65BUS 모선 PT 전압 출력 단자에서 케이블 용도별 분리(계측용, 보호용 PT 케이블 분리)","2019-02-26 16:00","2019-02-26 18:00","2019-02-26 16:00","2019-02-26 18:00","당일",null,null,null,201812140066]
[8,"인천","인천","서인천C/C 154kV #60 BUS","서인천복합S/Y등 3개소 RTU 교체 관련 제어케이블 정비공사","□ 휴전목적 : RTU 교체 공사 전 사전작업 시행 □ 휴전작업 내용 : 154kV 60,65BUS 모선 PT 전압 출력 단자에서 케이블 용도별 분리(계측용, 보호용 PT 케이블 분리)","2019-02-26 14:00","2019-02-26 16:00","2019-02-26 14:00","2019-02-26 16:00","당일",null,null,null,201812140067]
[9,"인천","인천","신경서경서#1 T/L","신경서S/S 신경서경서#1T/L GIS 보통점검","신경서S/S 신경서경서#1T/L GIS 보통점검","2019-02-20 09:00","2019-02-20 18:00","2019-02-20 09:00","2019-02-20 18:00","당일",null,null,null,201812030067]
[10,"인천","인천","인천남인천#2 T/L","인천,남인천S/S 인천남인천#2T/L 보호반 대체공사","인천S/S 인천남인천#2T/L 보호반 대체 남인천S/S 인천남인천#2T/L 보호반 대체 인천S/S 인천남인천#2T/L GIS 조작시험","2019-02-25 09:00","2019-02-28 18:00","2019-02-25 09:00","2019-02-28 18:00","연속",null,null,null,201812030066]
[11,"인천","인천","인천CC북인천#2 T/L","인천복합S/Y 인천CC북인천#2T/L GIS 누기 보수","인천복합S/Y 인천CC북인천#2T/L GIS 차단기 누기 보수 인천복합S/Y 인천CC북인천#2T/L GIS 조작시험 북인천S/S 인천CC북인천#2T/L GIS 조작시험","2019-02-26 09:00","2019-02-26 18:00","2019-02-26 09:00","2019-02-26 18:00","당일",null,null,null,201812110128]
[12,"인천","직할","신부평S/S 154kV #60 BUS","신부평-청천S/S SW증설","신부평S/S측 1CCT 증설","2019-02-25 09:00","2019-02-28 18:00","2019-02-25 09:00","2019-02-28 18:00","연속",null,null,null,201812190025]
[13,"인천","직할","신부평중동#2 T/L","신부평-청천S/S SW증설","신부평S/S측 1CCT 증설관련하여 모선 무부하가압용","2019-02-27 18:00","2019-02-28 18:00","2019-02-27 18:00","2019-02-28 18:00","연속"]
[14,"경기북부","직할","양주불광#1 T/L","양주 S/S 옥외철구 GIS화 전력구공사","양주-불광#1T/L 인출측 전력구공사","2019-02-25 09:00","2019-02-26 18:00","취소","취소","연속",null,null,null,201812060047]
[15,"경기북부","직할","양주불광#2 T/L","양주S/S 옥외철구 GIS화 전력구공사","양주-불광#2T/L 인출측 전력구공사","2019-02-23 09:00","2019-02-24 18:00","2019-02-23 09:00","2019-02-24 18:00","연속",null,null,null,201812060045]
[16,"경기북부","직할","양주쌍문#2 T/L","양주 S/S 옥외철구 GIS화 전력구공사","양주-쌍문#2T/L 인출측 전력구공사","2019-02-27 09:00","2019-02-28 18:00","취소","취소","연속",null,null,null,201812060046]
[17,"경기북부","구리","서종청평PP#2 T/L","청평P/P DS 조작함 내부 연결잭 발청청소","청평P/P DS 조작함 내부 연결잭 발청청소","2019-02-25 09:00","2019-02-26 18:00","2019-02-25 09:00","2019-02-26 18:00","연속",null,null,null,201812060046]
[18,"경기","군포","마도사강#1 T/L","154kV 마도S/S #3M.Tr 증설공사","변압기 무부하가압","2019-02-25 09:00","2019-02-26 18:00","2019-02-25 09:00","2019-02-26 18:00","연속",null,null,null,201812170065]
[19,"경기","군포","서서울#2서안양 T/L","2018-2019년 송전정비회사 총액공사","전선교체_18-18.1호간 등 애자장치 교체_11호 부하측","2019-02-25 08:00","2019-02-26 18:00","2019-02-25 08:00","2019-02-26 18:00","연속",null,null,null,201811200051]
[20,"경기","군포","서서울#2소래 T/L","2018-2019년 송전정비회사 총액공사","전선교체_21-22호간 등 4개소(골프장 휴장 기간내 휴전작업) 송전용 피뢰기 설치_1-5호간 애자장치 교체_11호 부하측","2019-02-20 08:00","2019-02-24 18:00","2019-02-20 08:00","2019-02-24 18:00","연속",null,null,null,201811200049]
[21,"경기","군포","서서울서수원#2 T/L","2018-2019년도 송전정비 협력회사 총액공사","전선교체 : 1~3호간(하단 1가닥)","2019-02-27 07:00","2019-02-27 14:00","2019-02-27 07:00","2019-02-27 14:00","당일",null,null,null,201811280030]
[22,"경기","군포","서서울율전#2 T/L","2018-2019년도 송전정비 협력회사 총액공사","피뢰기설치 : 1~5호간(5기)","2019-02-27 14:00","2019-02-27 18:00","2019-02-27 14:00","2019-02-27 18:00","당일",null,null,null,201811280031]
[23,"경기","군포","서서울#2서안양 T/L","서서울2소래 등 2개 T/L 피뢰기 열화진단","피뢰기 열화진단 및 애관청소 등","2019-02-27 08:00","2019-02-27 18:00","2019-02-27 08:00","2019-02-27 18:00","당일",null,null,null,201812070011]
[24,"경기","군포","화성조암#2 T/L","154kV 수촌분기T/L 건설공사","- 사업구모 : ACSR 410㎟×2B, 2C-0.3km, 0기 - 공사구간 :154kV 화성-조암T/L No.24,25 ~ 신설 수촌S/S - 공사내용 : 가선공사만 시행(No.24,25 철탑 기설치)","2019-02-17 07:00","2019-02-20 18:00","2019-02-17 07:00","2019-02-20 18:00","연속",null,null,null,201812070021]
[25,"경기","군포","화성조암#1 T/L","154kV 수촌분기T/L 건설공사","- 사업구모 : ACSR 410㎟×2B, 2C-0.3km, 0기 - 공사구간 :154kV 화성-조암T/L No.24,25 ~ 신설 수촌S/S - 공사내용 : 가선공사만 시행(No.24,25 철탑 기설치)","2019-02-21 07:00","2019-02-24 18:00","2019-02-21 07:00","2019-02-24 18:00","연속",null,null,null,201812070022]
[26,"경기","직할","의왕동안양#2 T/L","154kV 의왕-동안양T/L 지중화 공사","일부구간 지중화(1km), 2기 신설(C/H),1기 교체, 3기 철거 - 요청자 직접 시행공사","2019-02-11 07:00","2019-02-13 12:00","2019-02-11 07:00","2019-02-13 12:00","연속",null,null,null,201812200056]
[27,"경기","직할","의왕동안양#1 T/L","154kV 의왕-동안양T/L 지중화 공사","일부구간 지중화(1km), 2기 신설(C/H),1기 교체, 3기 철거 - 요청자 직접 시행공사","2019-02-13 12:00","2019-02-16 12:00","2019-02-13 12:00","2019-02-16 12:00","연속",null,null,null,201812200057]
[28,"강원","강릉","횡계평창 T/L","2019년 변전협력회사 총액공사","GIS EDS Limit switch 조정 및 EDS 조작시험","2019-02-21 10:00","2019-02-21 14:00","2019-02-21 10:00","2019-02-21 14:00","당일",null,null,null,201812130021]
[29,"강원","강릉","평창올림픽 T/L","2019년 변전협력회사 총액공사","GIS EDS Limit switch 조정 및 EDS 조작시험","2019-02-21 14:00","2019-02-21 18:00","2019-02-21 14:00","2019-02-21 18:00","당일",null,null,null,201812130023]
[30,"강원","원주","홍천소양강HP T/L","154kV 소양t/L No.84~89간 안전이격 확보공사","철탑철거 4기, 신설 3기","2019-02-18 09:00","2019-02-20 18:00","2019-02-15 10:30","2019-02-17 18:00","연속",null,null,null,201812110004]
[31,"강원","직할","홍천남춘천 T/L","154kV 소양t/L No.84~89간 안전이격 확보공사","철탑철거 4기, 신설 3기","2019-02-21 09:00","2019-02-23 18:00","2019-02-22 10:30","2019-02-24 18:00","연속",null,null,null,201812110010]
[32,"충북","충주","서운만승 T/L","154kV 서운-만승 등 2개T/L 전력선교체공사","154kV 서운-만승T/L No.81~83 전력선교체(중하단4선)","2019-02-25 08:00","2019-02-28 18:00","취소","취소","연속",null,null,null,201812170024,"O"]
[33,"충북","충주","진천만승#1 T/L","154kV 서운-만승 등 2개T/L 전력선교체공사","154kV 진천-만승#1T/L No.35~37 전력선교체(상하단 4선)","2019-02-25 08:00","2019-02-28 18:00","취소","취소","연속",null,null,null,201812170025,"O"]
[34,"대전충남","대전","신계룡은진#2 T/L","[송전] 154kV 신계룡-은진T/L 안전이격거리확보공사","[송전] 154kV 신계룡-은진T/L 철탑 철거/설치 및 전선 교체","2019-02-21 07:00","2019-03-12 18:00","2019-02-21 07:00","2019-03-12 18:00","연속",null,null,null,201812100158]
[35,"대전충남","대전","신계룡은진#1 T/L","[송전] 154kV 신계룡-은진T/L 안전이격거리확보공사","[송전] 154kV 신계룡-은진T/L 철탑 철거/설치 및 전선 교체","2019-02-21 07:00","2019-03-12 18:00","2019-02-21 07:00","2019-03-12 18:00","연속",null,null,null,201812100157]
[36,"대전충남","아산","장재천안#1 T/L","154kV 장재-천안 등 4개T/L 일진제 PMJ 교체공사","일진제 R-type 조립식접속함(PMJ) 교체","2019-02-25 09:00","2019-03-03 18:00","2019-02-25 09:00","2019-03-03 18:00","당일",null,null,null,201812130056]
[37,"전북","군산","군공내초#2 T/L","내초S/S 피뢰기 철거공사","내초S/S 군공-내초#2T/L 피뢰기 철거공사 및 차단기 초기점검","2019-02-25 10:00","2019-02-27 18:00","2019-02-20 10:00","2019-02-22 18:00","연속",null,null,null,201812110045]
[38,"전북","김제","정주고창#2 T/L","154kV 정주-고창 안전이격확보공사","정주-고창#1T/L 철탑 이설 및 전력선 교체 철탑교체 : No.69,70,72호 전력선 교체 : No.67~74호","2019-02-25 08:00","2019-03-04 18:00","취소","취소","연속",null,null,null,201811120044]
[39,"전북","김제","김제칠보HP T/L","김제-칠보수력T/L 유압경보 관련 점검","김제-칠보수력T/L 유압경보 관련 점검","2019-02-11 09:00","2019-02-11 18:00","2019-02-11 09:00","2019-02-11 18:00","당일",null,null,null,201812210125]
[40,"전북","김제","신김제정공#1 T/L","모자익배전반 교체공사(조작시험)","장기사용 모자익배전반교체 -> 디축모, 집감반구성후 조작시험","2019-02-25 09:00","2019-02-25 13:00","2019-02-25 09:00","2019-02-25 13:00","당일",null,null,null,201812280060]
[41,"전북","김제","신김제정공#2 T/L","모자익배전반 교체공사(조작시험)","장기사용 모자익배전반교체 -> 디축모, 집감반구성후 조작시험","2019-02-25 13:00","2019-02-25 18:00","2019-02-25 09:00","2019-02-25 13:00","당일",null,null,null,201812280061]
[42,"전북","김제","신김제전주#2 T/L","모자익배전반 교체공사(조작시험)","장기사용 모자익배전반교체 -> 디축모, 집감반구성후 조작시험","2019-02-26 13:00","2019-02-26 18:00","2019-02-26 13:00","2019-02-26 18:00","당일",null,null,null,201812280063]
[43,"전북","김제","신김제남전주#1 T/L","모자익배전반 교체공사(조작시험)","장기사용 모자익배전반교체 -> 디축모, 집감반구성후 조작시험","2019-02-27 09:00","2019-02-27 13:00","2019-02-23 09:00","2019-02-23 13:00","당일",null,null,null,201812280064]
[44,"전북","김제","신김제남전주#2 T/L","모자익배전반 교체공사(조작시험)","장기사용 모자익배전반교체 -> 디축모, 집감반구성후 조작시험","2019-02-27 13:00","2019-02-27 18:00","2019-02-23 13:00","2019-02-23 18:00","당일",null,null,null,201812280065]
[45,"전북","김제","신김제동전주#1 T/L","모자익배전반 교체공사(조작시험)","장기사용 모자익배전반교체 -> 디축모, 집감반구성후 조작시험","2019-02-28 09:00","2019-02-28 13:00","2019-02-28 09:00","2019-02-28 13:00","당일",null,null,null,201812280066]
[46,"전북","김제","신김제동전주#2 T/L","모자익배전반 교체공사(조작시험)","장기사용 모자익배전반교체 -> 디축모, 집감반구성후 조작시험","2019-02-28 13:00","2019-02-28 18:00","2019-02-28 13:00","2019-02-28 18:00","당일",null,null,null,201812280067]
[47,"전북","김제","신김제전주#1 T/L","모자익배전반 교체공사(조작시험)","장기사용 모자익배전반교체 -> 디축모, 집감반구성후 조작시험","2019-02-26 09:00","2019-02-26 13:00","2019-02-26 09:00","2019-02-26 13:00","당일",null,null,null,201812280062]
[48,"전북","김제","정주고창#1 T/L","정주S/S 170kV GIS 설치공사","정주S/S 정주-고창#1T/L 차단기 이설 고창S/S 송전선로 보호배전반 교체","2019-02-18 09:00","2019-02-24 18:00","취소","취소","연속",null,null,null,201811150188]
[49,"광주전남","광주","하남장성#1 T/L","19년 광주변전총액공사 (하남-장성#1T/L)","하남-장성#1T/L Air 누기보수","2019-02-11 09:00","2019-02-11 18:00","2019-02-10 09:00","2019-02-10 18:00","당일",null,null,null,201812140074]
[50,"광주전남","광주","충장농성#1 T/L","19년 광주변전총액공사 (충장-농성#1T/L)","충장-농성#1T/L Air 누기보수","2019-02-12 09:00","2019-02-12 18:00","2019-02-09 09:00","2019-02-09 18:00","당일",null,null,null,201812140075]
[51,"광주전남","목포","고창홍농 T/L","345kV 신김제-한빛NP 등 4개T/L 지장송전선로 이설공사","154kV 홍농분기T/L 51, 52호 철탑이설 - 51, 52호 철탑 교체 및 46-52호 구간 전력선 교체","2019-02-25 09:00","2019-03-06 18:00","2019-02-25 09:00","2019-03-06 18:00","연속",null,null,null,201812180078]
[52,"광주전남","직할","나주S/S 나주-금천#2T/L CB","18-19년 직할 변전정비회사 총액공사","- 공기압방식 차단기 조작시험","2019-02-14 09:00","2019-02-14 18:00","2019-02-14 09:00","2019-02-14 18:00","당일",null,null,null,201812060080]
[53,"광주전남","직할","나주S/S 나주-금천#1T/L CB","18-19년 직할 변전정비회사 총액공사","- 공기압방식 차단기 조작시험","2019-02-12 09:00","2019-02-12 18:00","2019-02-12 09:00","2019-02-12 18:00","당일",null,null,null,201812060079]
[54,"광주전남","직할","하남S/S 하남-장성#2T/L GIS","18-19년 직할 변전정비회사 총액공사","- 공기압방식 차단기 조작시험","2019-02-21 09:00","2019-02-21 18:00","2019-02-17 09:00","2019-02-17 18:00","당일",null,null,null,201812060078]
[55,"광주전남","직할","하남S/S 하남-장성#1T/L GIS","18-19년 직할 변전정비회사 총액공사","- 공기압방식 차단기 조작시험","2019-02-19 09:00","2019-02-19 18:00","2019-02-16 09:00","2019-02-16 18:00","당일",null,null,null,201812060077]
[56,"광주전남","순천","순천율촌#1T/L","154kV 순천-율촌T/L 지중화공사","- 154kV 순천-율촌T/L(순천S/S ~ No.69) 일부구간 지중화 공사","2019-02-21 07:00","2019-03-04 18:00","취소","취소","연속"]
[57,"광주전남","순천","순천율촌#2T/L","154kV 순천-율촌T/L 지중화공사","- 154kV 순천-율촌T/L(순천S/S ~ No.69) 일부구간 지중화 공사","2019-03-05 07:00","2019-03-16 18:00","취소","취소","연속"]
[58,"대구","달성","고령쌍림#2 T/L","154kV 고령-서구지T/L SW증설공사","154kV 고령-서구지T/L SW증설공사","2019-02-27 18:00","2019-02-28 18:00","2019-02-27 18:00","2019-02-28 18:00","연속",null,null,null,201812130028]
[59,"대구","달성","대구범물#2 T/L","달성전력지사 변전총액공사(송전선로 보호반 대체)","달성전력지사 변전총액공사(송전선로 보호반 대체)","2019-02-27 09:00","2019-02-28 18:00","2019-02-27 09:00","2019-02-28 18:00","연속",null,null,null,201812100118]
[60,"대구","달성","대구범물#1 T/L","달성전력지사 변전총액공사(송전선로 보호반 대체)","달성전력지사 변전총액공사(송전선로 보호반 대체)","2019-02-25 09:00","2019-02-26 18:00","2019-02-25 09:00","2019-02-26 18:00","연속",null,null,null,201812100117]
[61,"경북","직할","현종산평해#2 T/L","154kV 평해S/S 옥외철구설비 현대화 공사","common bay(현종산 풍력-평해#2T/L\u0002M.Tr) 작업","2019-02-01 09:00","2019-02-02 18:00","2019-02-01 09:00","2019-02-02 18:00","연속",null,null,null,201812200001]
[62,"부산울산","북부산","학장개금#2 T/L","2019년 북부산 변전협력회사 총액공사","학장S/S 154kV 학장-개금#2T/L 하자점검","2019-02-28 10:00","2019-02-28 18:00","2019-02-28 10:00","2019-02-28 18:00","당일",null,null,null,201812050007]
[63,"부산울산","북부산","학장개금#1 T/L","2019년 북부산 변전협력회사 총액공사","학장S/S 154kV 학장-개금#1T/L 하자점검","2019-02-27 10:00","2019-02-27 18:00","2019-02-27 10:00","2019-02-27 18:00","당일",null,null,null,201812050006]
[64,"부산울산","울산","온산처용#2 T/L","2018-19년 울산전력지사 변전협력회사 총액공사","1.온산S/S 154kV 온산-처용#2T/L GIS Air누기 보수작업 2.처용S/S 모자익 철거관련 제어케이블 철거 및 포설","2019-02-26 09:00","2019-02-27 18:00","2019-02-23 09:00","2019-02-24 18:00","연속",null,null,null,201812180034]
[65,"경남","직할","신김해S/S 154kV #60 BUS","신김해S/S 170kV 장기사용 GIS 대체공사(3차공정)","신김해S/S 170kV 장기사용 GIS 대체공사(3차공정) 60-61B/S 교체","2019-02-16 08:00","2019-02-27 17:30","2019-02-16 08:00","2019-02-27 17:30","연속",null,null,null,201812070056]
[66,"경남","직할","신김해S/S 154kV #61 BUS","신김해S/S 170kV 장기사용 GIS 대체공사(3차공정)","신김해S/S 170kV 장기사용 GIS 대체공사(3차공정) 60-61B/S 교체","2019-02-16 08:00","2019-02-27 17:30","2019-02-16 08:00","2019-02-27 17:30","연속",null,null,null,201812070057]
[67,"경남","직할","신김해지사#1 T/L","신김해S/S 170kV 장기사용 GIS 대체공사(3차공정)","신김해S/S 170kV 장기사용 GIS 대체공사(3차공정) 60-61B/S 교체(철거시 안전이격거리 확보)","2019-02-16 08:00","2019-02-17 17:30","2019-02-16 08:00","2019-02-17 17:30","연속",null,null,null,201812070059]
[68,"경남","직할","신김해주촌#2 T/L","154kV 녹공-마천 등 17개 T/L 피뢰기 설치공사","신김해-주촌#2T/L19-26호,1-21호 송전선로용 피뢰기 설치공사 및 안전이격 확보","2019-02-23 07:00","2019-02-24 18:00","2019-02-23 07:00","2019-02-24 18:00","매일",null,null,null,201812040071]
[69,"경남","직할","주촌삼계#1 T/L","154kV 녹공-마천 등 17개 T/L 피뢰기 설치공사","주촌-삼계#1T/L12-30호 송전선로용 피뢰기 설치공사 및 안전이격 확보","2019-02-23 07:00","2019-02-23 18:00","2019-02-23 07:00","2019-02-23 18:00","당일",null,null,null,201812040072]
[70,"경남","직할","천선 #60-61 BUS SEC CB","천선S/S 154kV 60-61 SEC CB 보통점검","천선S/S 154kV 60-61 SEC CB 보통점검","2019-02-28 09:30","2019-02-28 13:30","2019-02-15 09:30","2019-02-15 13:30","당일",null,null,null,201812060036]
[71,"경남","직할","천선 #65-66 BUS SEC CB","천선S/S 154kV 65-66 SEC CB 보통점검","천선S/S 154kV 65-66 SEC CB 보통점검","2019-02-28 13:30","2019-02-28 17:30","2019-02-15 13:30","2019-02-15 17:30","당일",null,null,null,201812060037]
[72,"경남","직할","천선 #2 BUS TIE CB","천선S/S 154kV #2BUS-TIE CB 보통점검","천선S/S 154kV #2BUS-TIE CB 보통점검","2019-02-27 13:30","2019-02-27 17:30","2019-02-14 13:30","2019-02-14 17:30","당일",null,null,null,201812060035]
[73,"경남","직할","천선 #1 BUS TIE CB","천선S/S 154kV #1BUS-TIE CB 보통점검","천선S/S 154kV #1BUS-TIE CB 보통점검","2019-02-27 09:30","2019-02-27 13:30","2019-02-14 09:30","2019-02-14 13:30","당일",null,null,null,201812060034]
[74,"경남","통영","신고성통영 T/L","154kV 신고성-통영T/L 안전이격 확보공사","154kV 신고성-통영T/L 56~58호, 91~93호 안전이격 확보공사","2019-02-24 06:30","2019-02-24 18:30","2019-02-24 06:30","2019-02-24 18:30","당일",null,null,null,201812080005]
[75,"경남","통영","신고성고성 T/L","154kV 신고성-통영T/L 안전이격 확보공사","154kV 신고성-통영T/L 56~58호, 91~93호 안전이격 확보공사","2019-02-16 06:30","2019-02-16 18:30","2019-02-16 06:30","2019-02-16 18:30","당일",null,null,null,201812080003]
[76,"경남","통영","신고성고성 T/L","154kV 신고성-통영T/L 안전이격 확보공사","154kV 신고성-통영T/L 56~58호, 91~93호 안전이격 확보공사","2019-02-23 06:30","2019-02-23 18:30","2019-02-23 06:30","2019-02-23 18:30","당일",null,null,null,201812080006]
[77,"경남","통영","신고성통영 T/L","154kV 신고성-통영T/L 안전이격 확보공사","154kV 신고성-통영T/L 56~58호, 91~93호 안전이격 확보공사","2019-02-17 06:30","2019-02-17 18:30","2019-02-17 06:30","2019-02-17 18:30","당일",null,null,null,201812080004]
[78,"경남","통영","진동S/S 154kV #1 BUS TIE CB","진동S/S 154kV B/T GIS, PT&ES 대체공사","1. 진동S/S 154kV B/T GIS, PT&ES 철거 및 설치","2019-02-23 08:00","2019-03-08 18:00","2019-02-23 08:00","2019-03-08 18:00","연속",null,null,null,201811280133]